BEGIN:VCALENDAR
VERSION:2.0
PRODID:-//National Association of Credit Management - ECPv6.10.1.1//NONSGML v1.0//EN
CALSCALE:GREGORIAN
METHOD:PUBLISH
X-ORIGINAL-URL:https://stage.nacm.org
X-WR-CALDESC:Events for National Association of Credit Management
REFRESH-INTERVAL;VALUE=DURATION:PT1H
X-Robots-Tag:noindex
X-PUBLISHED-TTL:PT1H
BEGIN:VTIMEZONE
TZID:America/New_York
BEGIN:DAYLIGHT
TZOFFSETFROM:-0500
TZOFFSETTO:-0400
TZNAME:EDT
DTSTART:20280312T070000
END:DAYLIGHT
BEGIN:STANDARD
TZOFFSETFROM:-0400
TZOFFSETTO:-0500
TZNAME:EST
DTSTART:20281105T060000
END:STANDARD
BEGIN:DAYLIGHT
TZOFFSETFROM:-0500
TZOFFSETTO:-0400
TZNAME:EDT
DTSTART:20290311T070000
END:DAYLIGHT
BEGIN:STANDARD
TZOFFSETFROM:-0400
TZOFFSETTO:-0500
TZNAME:EST
DTSTART:20291104T060000
END:STANDARD
BEGIN:DAYLIGHT
TZOFFSETFROM:-0500
TZOFFSETTO:-0400
TZNAME:EDT
DTSTART:20300310T070000
END:DAYLIGHT
BEGIN:STANDARD
TZOFFSETFROM:-0400
TZOFFSETTO:-0500
TZNAME:EST
DTSTART:20301103T060000
END:STANDARD
END:VTIMEZONE
BEGIN:VEVENT
DTSTART;TZID=America/New_York:20280512T140000
DTEND;TZID=America/New_York:20280512T150000
DTSTAMP:20260419T181442
CREATED:20250206T033248Z
LAST-MODIFIED:20250616T163128Z
UID:10000666-1841752800-1841756400@stage.nacm.org
SUMMARY:Emerging - Thought Leader Forums
DESCRIPTION:Thought Leader Forums: \nEmerging \nwith Sara Asomaning. \n\nAll who participate can receive .1 CEU toward an NACM designation.\nYou must be a member of NACM to join.\n\n\n\n\n\nFree for members! \nMeets on the second Friday of every month.
URL:https://stage.nacm.org/event/emerging-thought-leaders/2028-05-12/
LOCATION:Online
CATEGORIES:Thought Leader Forums
END:VEVENT
BEGIN:VEVENT
DTSTART;TZID=America/New_York:20280609T140000
DTEND;TZID=America/New_York:20280609T150000
DTSTAMP:20260419T181442
CREATED:20250206T033248Z
LAST-MODIFIED:20250616T163128Z
UID:10000667-1844172000-1844175600@stage.nacm.org
SUMMARY:Emerging - Thought Leader Forums
DESCRIPTION:Thought Leader Forums: \nEmerging \nwith Sara Asomaning. \n\nAll who participate can receive .1 CEU toward an NACM designation.\nYou must be a member of NACM to join.\n\n\n\n\n\nFree for members! \nMeets on the second Friday of every month.
URL:https://stage.nacm.org/event/emerging-thought-leaders/2028-06-09/
LOCATION:Online
CATEGORIES:Thought Leader Forums
END:VEVENT
BEGIN:VEVENT
DTSTART;TZID=America/New_York:20280714T140000
DTEND;TZID=America/New_York:20280714T150000
DTSTAMP:20260419T181442
CREATED:20250206T033248Z
LAST-MODIFIED:20250616T163128Z
UID:10000668-1847196000-1847199600@stage.nacm.org
SUMMARY:Emerging - Thought Leader Forums
DESCRIPTION:Thought Leader Forums: \nEmerging \nwith Sara Asomaning. \n\nAll who participate can receive .1 CEU toward an NACM designation.\nYou must be a member of NACM to join.\n\n\n\n\n\nFree for members! \nMeets on the second Friday of every month.
URL:https://stage.nacm.org/event/emerging-thought-leaders/2028-07-14/
LOCATION:Online
CATEGORIES:Thought Leader Forums
END:VEVENT
BEGIN:VEVENT
DTSTART;TZID=America/New_York:20280811T140000
DTEND;TZID=America/New_York:20280811T150000
DTSTAMP:20260419T181442
CREATED:20250206T033248Z
LAST-MODIFIED:20250616T163128Z
UID:10000669-1849615200-1849618800@stage.nacm.org
SUMMARY:Emerging - Thought Leader Forums
DESCRIPTION:Thought Leader Forums: \nEmerging \nwith Sara Asomaning. \n\nAll who participate can receive .1 CEU toward an NACM designation.\nYou must be a member of NACM to join.\n\n\n\n\n\nFree for members! \nMeets on the second Friday of every month.
URL:https://stage.nacm.org/event/emerging-thought-leaders/2028-08-11/
LOCATION:Online
CATEGORIES:Thought Leader Forums
END:VEVENT
BEGIN:VEVENT
DTSTART;TZID=America/New_York:20280908T140000
DTEND;TZID=America/New_York:20280908T150000
DTSTAMP:20260419T181442
CREATED:20250206T033248Z
LAST-MODIFIED:20250616T163128Z
UID:10000670-1852034400-1852038000@stage.nacm.org
SUMMARY:Emerging - Thought Leader Forums
DESCRIPTION:Thought Leader Forums: \nEmerging \nwith Sara Asomaning. \n\nAll who participate can receive .1 CEU toward an NACM designation.\nYou must be a member of NACM to join.\n\n\n\n\n\nFree for members! \nMeets on the second Friday of every month.
URL:https://stage.nacm.org/event/emerging-thought-leaders/2028-09-08/
LOCATION:Online
CATEGORIES:Thought Leader Forums
END:VEVENT
BEGIN:VEVENT
DTSTART;TZID=America/New_York:20281013T140000
DTEND;TZID=America/New_York:20281013T150000
DTSTAMP:20260419T181442
CREATED:20250206T033248Z
LAST-MODIFIED:20250616T163128Z
UID:10000671-1855058400-1855062000@stage.nacm.org
SUMMARY:Emerging - Thought Leader Forums
DESCRIPTION:Thought Leader Forums: \nEmerging \nwith Sara Asomaning. \n\nAll who participate can receive .1 CEU toward an NACM designation.\nYou must be a member of NACM to join.\n\n\n\n\n\nFree for members! \nMeets on the second Friday of every month.
URL:https://stage.nacm.org/event/emerging-thought-leaders/2028-10-13/
LOCATION:Online
CATEGORIES:Thought Leader Forums
END:VEVENT
BEGIN:VEVENT
DTSTART;TZID=America/New_York:20281110T140000
DTEND;TZID=America/New_York:20281110T150000
DTSTAMP:20260419T181442
CREATED:20250206T033248Z
LAST-MODIFIED:20250616T163128Z
UID:10000672-1857477600-1857481200@stage.nacm.org
SUMMARY:Emerging - Thought Leader Forums
DESCRIPTION:Thought Leader Forums: \nEmerging \nwith Sara Asomaning. \n\nAll who participate can receive .1 CEU toward an NACM designation.\nYou must be a member of NACM to join.\n\n\n\n\n\nFree for members! \nMeets on the second Friday of every month.
URL:https://stage.nacm.org/event/emerging-thought-leaders/2028-11-10/
LOCATION:Online
CATEGORIES:Thought Leader Forums
END:VEVENT
BEGIN:VEVENT
DTSTART;TZID=America/New_York:20281208T140000
DTEND;TZID=America/New_York:20281208T150000
DTSTAMP:20260419T181442
CREATED:20250206T033248Z
LAST-MODIFIED:20250616T163128Z
UID:10000673-1859896800-1859900400@stage.nacm.org
SUMMARY:Emerging - Thought Leader Forums
DESCRIPTION:Thought Leader Forums: \nEmerging \nwith Sara Asomaning. \n\nAll who participate can receive .1 CEU toward an NACM designation.\nYou must be a member of NACM to join.\n\n\n\n\n\nFree for members! \nMeets on the second Friday of every month.
URL:https://stage.nacm.org/event/emerging-thought-leaders/2028-12-08/
LOCATION:Online
CATEGORIES:Thought Leader Forums
END:VEVENT
BEGIN:VEVENT
DTSTART;TZID=America/New_York:20290112T140000
DTEND;TZID=America/New_York:20290112T150000
DTSTAMP:20260419T181442
CREATED:20250206T033248Z
LAST-MODIFIED:20250616T163128Z
UID:10000674-1862920800-1862924400@stage.nacm.org
SUMMARY:Emerging - Thought Leader Forums
DESCRIPTION:Thought Leader Forums: \nEmerging \nwith Sara Asomaning. \n\nAll who participate can receive .1 CEU toward an NACM designation.\nYou must be a member of NACM to join.\n\n\n\n\n\nFree for members! \nMeets on the second Friday of every month.
URL:https://stage.nacm.org/event/emerging-thought-leaders/2029-01-12/
LOCATION:Online
CATEGORIES:Thought Leader Forums
END:VEVENT
BEGIN:VEVENT
DTSTART;TZID=America/New_York:20290209T140000
DTEND;TZID=America/New_York:20290209T150000
DTSTAMP:20260419T181442
CREATED:20250206T033248Z
LAST-MODIFIED:20250616T163128Z
UID:10000675-1865340000-1865343600@stage.nacm.org
SUMMARY:Emerging - Thought Leader Forums
DESCRIPTION:Thought Leader Forums: \nEmerging \nwith Sara Asomaning. \n\nAll who participate can receive .1 CEU toward an NACM designation.\nYou must be a member of NACM to join.\n\n\n\n\n\nFree for members! \nMeets on the second Friday of every month.
URL:https://stage.nacm.org/event/emerging-thought-leaders/2029-02-09/
LOCATION:Online
CATEGORIES:Thought Leader Forums
END:VEVENT
BEGIN:VEVENT
DTSTART;TZID=America/New_York:20290309T140000
DTEND;TZID=America/New_York:20290309T150000
DTSTAMP:20260419T181442
CREATED:20250206T033248Z
LAST-MODIFIED:20250616T163128Z
UID:10000676-1867759200-1867762800@stage.nacm.org
SUMMARY:Emerging - Thought Leader Forums
DESCRIPTION:Thought Leader Forums: \nEmerging \nwith Sara Asomaning. \n\nAll who participate can receive .1 CEU toward an NACM designation.\nYou must be a member of NACM to join.\n\n\n\n\n\nFree for members! \nMeets on the second Friday of every month.
URL:https://stage.nacm.org/event/emerging-thought-leaders/2029-03-09/
LOCATION:Online
CATEGORIES:Thought Leader Forums
END:VEVENT
BEGIN:VEVENT
DTSTART;TZID=America/New_York:20290413T140000
DTEND;TZID=America/New_York:20290413T150000
DTSTAMP:20260419T181442
CREATED:20250206T033248Z
LAST-MODIFIED:20250616T163128Z
UID:10000677-1870783200-1870786800@stage.nacm.org
SUMMARY:Emerging - Thought Leader Forums
DESCRIPTION:Thought Leader Forums: \nEmerging \nwith Sara Asomaning. \n\nAll who participate can receive .1 CEU toward an NACM designation.\nYou must be a member of NACM to join.\n\n\n\n\n\nFree for members! \nMeets on the second Friday of every month.
URL:https://stage.nacm.org/event/emerging-thought-leaders/2029-04-13/
LOCATION:Online
CATEGORIES:Thought Leader Forums
END:VEVENT
BEGIN:VEVENT
DTSTART;TZID=America/New_York:20290511T140000
DTEND;TZID=America/New_York:20290511T150000
DTSTAMP:20260419T181442
CREATED:20250206T033248Z
LAST-MODIFIED:20250616T163128Z
UID:10000678-1873202400-1873206000@stage.nacm.org
SUMMARY:Emerging - Thought Leader Forums
DESCRIPTION:Thought Leader Forums: \nEmerging \nwith Sara Asomaning. \n\nAll who participate can receive .1 CEU toward an NACM designation.\nYou must be a member of NACM to join.\n\n\n\n\n\nFree for members! \nMeets on the second Friday of every month.
URL:https://stage.nacm.org/event/emerging-thought-leaders/2029-05-11/
LOCATION:Online
CATEGORIES:Thought Leader Forums
END:VEVENT
BEGIN:VEVENT
DTSTART;TZID=America/New_York:20290608T140000
DTEND;TZID=America/New_York:20290608T150000
DTSTAMP:20260419T181442
CREATED:20250206T033248Z
LAST-MODIFIED:20250616T163128Z
UID:10000679-1875621600-1875625200@stage.nacm.org
SUMMARY:Emerging - Thought Leader Forums
DESCRIPTION:Thought Leader Forums: \nEmerging \nwith Sara Asomaning. \n\nAll who participate can receive .1 CEU toward an NACM designation.\nYou must be a member of NACM to join.\n\n\n\n\n\nFree for members! \nMeets on the second Friday of every month.
URL:https://stage.nacm.org/event/emerging-thought-leaders/2029-06-08/
LOCATION:Online
CATEGORIES:Thought Leader Forums
END:VEVENT
BEGIN:VEVENT
DTSTART;TZID=America/New_York:20290713T140000
DTEND;TZID=America/New_York:20290713T150000
DTSTAMP:20260419T181442
CREATED:20250206T033248Z
LAST-MODIFIED:20250616T163128Z
UID:10000680-1878645600-1878649200@stage.nacm.org
SUMMARY:Emerging - Thought Leader Forums
DESCRIPTION:Thought Leader Forums: \nEmerging \nwith Sara Asomaning. \n\nAll who participate can receive .1 CEU toward an NACM designation.\nYou must be a member of NACM to join.\n\n\n\n\n\nFree for members! \nMeets on the second Friday of every month.
URL:https://stage.nacm.org/event/emerging-thought-leaders/2029-07-13/
LOCATION:Online
CATEGORIES:Thought Leader Forums
END:VEVENT
BEGIN:VEVENT
DTSTART;TZID=America/New_York:20290810T140000
DTEND;TZID=America/New_York:20290810T150000
DTSTAMP:20260419T181442
CREATED:20250206T033248Z
LAST-MODIFIED:20250616T163128Z
UID:10000681-1881064800-1881068400@stage.nacm.org
SUMMARY:Emerging - Thought Leader Forums
DESCRIPTION:Thought Leader Forums: \nEmerging \nwith Sara Asomaning. \n\nAll who participate can receive .1 CEU toward an NACM designation.\nYou must be a member of NACM to join.\n\n\n\n\n\nFree for members! \nMeets on the second Friday of every month.
URL:https://stage.nacm.org/event/emerging-thought-leaders/2029-08-10/
LOCATION:Online
CATEGORIES:Thought Leader Forums
END:VEVENT
BEGIN:VEVENT
DTSTART;TZID=America/New_York:20290914T140000
DTEND;TZID=America/New_York:20290914T150000
DTSTAMP:20260419T181442
CREATED:20250206T033248Z
LAST-MODIFIED:20250616T163128Z
UID:10000682-1884088800-1884092400@stage.nacm.org
SUMMARY:Emerging - Thought Leader Forums
DESCRIPTION:Thought Leader Forums: \nEmerging \nwith Sara Asomaning. \n\nAll who participate can receive .1 CEU toward an NACM designation.\nYou must be a member of NACM to join.\n\n\n\n\n\nFree for members! \nMeets on the second Friday of every month.
URL:https://stage.nacm.org/event/emerging-thought-leaders/2029-09-14/
LOCATION:Online
CATEGORIES:Thought Leader Forums
END:VEVENT
BEGIN:VEVENT
DTSTART;TZID=America/New_York:20291012T140000
DTEND;TZID=America/New_York:20291012T150000
DTSTAMP:20260419T181442
CREATED:20250206T033248Z
LAST-MODIFIED:20250616T163128Z
UID:10000683-1886508000-1886511600@stage.nacm.org
SUMMARY:Emerging - Thought Leader Forums
DESCRIPTION:Thought Leader Forums: \nEmerging \nwith Sara Asomaning. \n\nAll who participate can receive .1 CEU toward an NACM designation.\nYou must be a member of NACM to join.\n\n\n\n\n\nFree for members! \nMeets on the second Friday of every month.
URL:https://stage.nacm.org/event/emerging-thought-leaders/2029-10-12/
LOCATION:Online
CATEGORIES:Thought Leader Forums
END:VEVENT
BEGIN:VEVENT
DTSTART;TZID=America/New_York:20291109T140000
DTEND;TZID=America/New_York:20291109T150000
DTSTAMP:20260419T181442
CREATED:20250206T033248Z
LAST-MODIFIED:20250616T163128Z
UID:10000684-1888927200-1888930800@stage.nacm.org
SUMMARY:Emerging - Thought Leader Forums
DESCRIPTION:Thought Leader Forums: \nEmerging \nwith Sara Asomaning. \n\nAll who participate can receive .1 CEU toward an NACM designation.\nYou must be a member of NACM to join.\n\n\n\n\n\nFree for members! \nMeets on the second Friday of every month.
URL:https://stage.nacm.org/event/emerging-thought-leaders/2029-11-09/
LOCATION:Online
CATEGORIES:Thought Leader Forums
END:VEVENT
BEGIN:VEVENT
DTSTART;TZID=America/New_York:20291214T140000
DTEND;TZID=America/New_York:20291214T150000
DTSTAMP:20260419T181442
CREATED:20250206T033248Z
LAST-MODIFIED:20250616T163128Z
UID:10000685-1891951200-1891954800@stage.nacm.org
SUMMARY:Emerging - Thought Leader Forums
DESCRIPTION:Thought Leader Forums: \nEmerging \nwith Sara Asomaning. \n\nAll who participate can receive .1 CEU toward an NACM designation.\nYou must be a member of NACM to join.\n\n\n\n\n\nFree for members! \nMeets on the second Friday of every month.
URL:https://stage.nacm.org/event/emerging-thought-leaders/2029-12-14/
LOCATION:Online
CATEGORIES:Thought Leader Forums
END:VEVENT
BEGIN:VEVENT
DTSTART;TZID=America/New_York:20300111T140000
DTEND;TZID=America/New_York:20300111T150000
DTSTAMP:20260419T181442
CREATED:20250206T033248Z
LAST-MODIFIED:20250616T163128Z
UID:10000686-1894370400-1894374000@stage.nacm.org
SUMMARY:Emerging - Thought Leader Forums
DESCRIPTION:Thought Leader Forums: \nEmerging \nwith Sara Asomaning. \n\nAll who participate can receive .1 CEU toward an NACM designation.\nYou must be a member of NACM to join.\n\n\n\n\n\nFree for members! \nMeets on the second Friday of every month.
URL:https://stage.nacm.org/event/emerging-thought-leaders/2030-01-11/
LOCATION:Online
CATEGORIES:Thought Leader Forums
END:VEVENT
BEGIN:VEVENT
DTSTART;TZID=America/New_York:20300208T140000
DTEND;TZID=America/New_York:20300208T150000
DTSTAMP:20260419T181442
CREATED:20250206T033248Z
LAST-MODIFIED:20250616T163128Z
UID:10000994-1896789600-1896793200@stage.nacm.org
SUMMARY:Emerging - Thought Leader Forums
DESCRIPTION:Thought Leader Forums: \nEmerging \nwith Sara Asomaning. \n\nAll who participate can receive .1 CEU toward an NACM designation.\nYou must be a member of NACM to join.\n\n\n\n\n\nFree for members! \nMeets on the second Friday of every month.
URL:https://stage.nacm.org/event/emerging-thought-leaders/2030-02-08/
LOCATION:Online
CATEGORIES:Thought Leader Forums
END:VEVENT
BEGIN:VEVENT
DTSTART;TZID=America/New_York:20300308T140000
DTEND;TZID=America/New_York:20300308T150000
DTSTAMP:20260419T181442
CREATED:20250206T033248Z
LAST-MODIFIED:20250616T163128Z
UID:10001003-1899208800-1899212400@stage.nacm.org
SUMMARY:Emerging - Thought Leader Forums
DESCRIPTION:Thought Leader Forums: \nEmerging \nwith Sara Asomaning. \n\nAll who participate can receive .1 CEU toward an NACM designation.\nYou must be a member of NACM to join.\n\n\n\n\n\nFree for members! \nMeets on the second Friday of every month.
URL:https://stage.nacm.org/event/emerging-thought-leaders/2030-03-08/
LOCATION:Online
CATEGORIES:Thought Leader Forums
END:VEVENT
END:VCALENDAR